BEGIN:VCALENDAR
VERSION:2.0
PRODID:-//wp-events-plugin.com//7.2.3.1//EN
TZID:Europe/Berlin
X-WR-TIMEZONE:Europe/Berlin
BEGIN:VEVENT
UID:232@frankfurtersinfoniker.de
DTSTART;TZID=Europe/Berlin:20261213T170000
DTEND;TZID=Europe/Berlin:20261213T170000
DTSTAMP:20260103T233803Z
URL:https://frankfurtersinfoniker.de/veranstaltungen/adventskonzert-2/
SUMMARY:Adventskonzert
DESCRIPTION:Bad Hersfeld\, Stadtkirche
CATEGORIES:Deutsch Event 2026
END:VEVENT
BEGIN:VTIMEZONE
TZID:Europe/Berlin
X-LIC-LOCATION:Europe/Berlin
BEGIN:STANDARD
DTSTART:20261025T020000
TZOFFSETFROM:+0200
TZOFFSETTO:+0100
TZNAME:CET
END:STANDARD
END:VTIMEZONE
END:VCALENDAR