BEGIN:VCALENDAR
VERSION:2.0
PRODID:-//wp-events-plugin.com//7.2.3.1//EN
TZID:Europe/Berlin
X-WR-TIMEZONE:Europe/Berlin
BEGIN:VEVENT
UID:234@frankfurtersinfoniker.de
DTSTART;TZID=Europe/Berlin:20260426T000000
DTEND;TZID=Europe/Berlin:20260426T000000
DTSTAMP:20260109T120203Z
URL:https://frankfurtersinfoniker.de/veranstaltungen/eroeffnungskonzert-75
 -festspielsaison/
SUMMARY:Eröffnungskonzert 75. Festspielsaison
DESCRIPTION:Bad Hersfeld\, Stadthalle
CATEGORIES:Deutsch Event 2026
END:VEVENT
BEGIN:VTIMEZONE
TZID:Europe/Berlin
X-LIC-LOCATION:Europe/Berlin
BEGIN:DAYLIGHT
DTSTART:20260329T030000
TZOFFSETFROM:+0100
TZOFFSETTO:+0200
TZNAME:CEST
END:DAYLIGHT
END:VTIMEZONE
END:VCALENDAR