BEGIN:VCALENDAR
VERSION:2.0
PRODID:-//wp-events-plugin.com//7.2.3.1//EN
TZID:Europe/Berlin
X-WR-TIMEZONE:Europe/Berlin
BEGIN:VEVENT
UID:238@frankfurtersinfoniker.de
DTSTART;TZID=Europe/Berlin:20260524T170000
DTEND;TZID=Europe/Berlin:20260524T170000
DTSTAMP:20260220T203626Z
URL:https://frankfurtersinfoniker.de/veranstaltungen/klassik-sprudel-champ
 agner-von-der-donau-an-die-spree/
SUMMARY:Klassik\, Sprudel & Champagner - Von der Donau an die Spree
DESCRIPTION:Bad Vilbel\, Quellenhof
CATEGORIES:Deutsch Event 2026
END:VEVENT
BEGIN:VTIMEZONE
TZID:Europe/Berlin
X-LIC-LOCATION:Europe/Berlin
BEGIN:DAYLIGHT
DTSTART:20260329T030000
TZOFFSETFROM:+0100
TZOFFSETTO:+0200
TZNAME:CEST
END:DAYLIGHT
END:VTIMEZONE
END:VCALENDAR