BEGIN:VCALENDAR
VERSION:2.0
PRODID:-//wp-events-plugin.com//7.2.3.1//EN
TZID:Europe/Berlin
X-WR-TIMEZONE:Europe/Berlin
BEGIN:VEVENT
UID:220@frankfurtersinfoniker.de
DTSTART;TZID=Europe/Berlin:20261113T000000
DTEND;TZID=Europe/Berlin:20261113T000000
DTSTAMP:20260115T102057Z
URL:https://frankfurtersinfoniker.de/veranstaltungen/konzert-probe/
SUMMARY:Probe Haydn: Die Schöpfung
DESCRIPTION:Wiesbaden\, Marktkirche
CATEGORIES:Deutsch Event 2026
END:VEVENT
BEGIN:VTIMEZONE
TZID:Europe/Berlin
X-LIC-LOCATION:Europe/Berlin
BEGIN:STANDARD
DTSTART:20261025T020000
TZOFFSETFROM:+0200
TZOFFSETTO:+0100
TZNAME:CET
END:STANDARD
END:VTIMEZONE
END:VCALENDAR