BEGIN:VCALENDAR
VERSION:2.0
PRODID:-//wp-events-plugin.com//7.2.3.1//EN
TZID:Europe/Berlin
X-WR-TIMEZONE:Europe/Berlin
BEGIN:VEVENT
UID:236@frankfurtersinfoniker.de
DTSTART;TZID=Europe/Berlin:20261121T000000
DTEND;TZID=Europe/Berlin:20261121T000000
DTSTAMP:20260406T121649Z
URL:https://frankfurtersinfoniker.de/veranstaltungen/milestones-of-rock-21
 /
SUMMARY:Milestones of Rock
DESCRIPTION:Giengen a. d. Brenz\, Walter-Schmid-Halle
CATEGORIES:Deutsch Event 2026
END:VEVENT
BEGIN:VTIMEZONE
TZID:Europe/Berlin
X-LIC-LOCATION:Europe/Berlin
BEGIN:STANDARD
DTSTART:20261025T020000
TZOFFSETFROM:+0200
TZOFFSETTO:+0100
TZNAME:CET
END:STANDARD
END:VTIMEZONE
END:VCALENDAR