BEGIN:VCALENDAR
VERSION:2.0
PRODID:-//wp-events-plugin.com//7.2.3.1//EN
TZID:Europe/Berlin
X-WR-TIMEZONE:Europe/Berlin
BEGIN:VEVENT
UID:108@frankfurtersinfoniker.de
DTSTART;TZID=Europe/Berlin:20240830T200000
DTEND;TZID=Europe/Berlin:20240830T200000
DTSTAMP:20240819T093254Z
URL:https://frankfurtersinfoniker.de/veranstaltungen/milestones-of-rock-7/
SUMMARY:Milestones of Rock
DESCRIPTION:Eppingen\, Weiherpark
CATEGORIES:Deutsch Event 2024
END:VEVENT
BEGIN:VTIMEZONE
TZID:Europe/Berlin
X-LIC-LOCATION:Europe/Berlin
BEGIN:DAYLIGHT
DTSTART:20240331T030000
TZOFFSETFROM:+0100
TZOFFSETTO:+0200
TZNAME:CEST
END:DAYLIGHT
END:VTIMEZONE
END:VCALENDAR