BEGIN:VCALENDAR
VERSION:2.0
PRODID:-//wp-events-plugin.com//7.2.3.1//EN
TZID:Europe/Berlin
X-WR-TIMEZONE:Europe/Berlin
BEGIN:VEVENT
UID:198@frankfurtersinfoniker.de
DTSTART;TZID=Europe/Berlin:20271126T000000
DTEND;TZID=Europe/Berlin:20271126T000000
DTSTAMP:20250406T184400Z
URL:https://frankfurtersinfoniker.de/veranstaltungen/mix-aus-messiah-und-w
 eihnachtsoratorium-probe/
SUMMARY:Mix aus MESSIAH und WEIHNACHTSORATORIUM: Probe
DESCRIPTION:Wiesbaden\, Marktkirche
CATEGORIES:Deutsch Event 2027
END:VEVENT
BEGIN:VTIMEZONE
TZID:Europe/Berlin
X-LIC-LOCATION:Europe/Berlin
BEGIN:STANDARD
DTSTART:20271031T020000
TZOFFSETFROM:+0200
TZOFFSETTO:+0100
TZNAME:CET
END:STANDARD
END:VTIMEZONE
END:VCALENDAR