BEGIN:VCALENDAR
VERSION:2.0
PRODID:-//wp-events-plugin.com//7.2.3.1//EN
TZID:Europe/Berlin
X-WR-TIMEZONE:Europe/Berlin
BEGIN:VEVENT
UID:249@frankfurtersinfoniker.de
DTSTART;TZID=Europe/Berlin:20270108T193000
DTEND;TZID=Europe/Berlin:20270108T193000
DTSTAMP:20260321T162700Z
URL:https://frankfurtersinfoniker.de/veranstaltungen/neujahrskonzert-48/
SUMMARY:Neujahrskonzert
DESCRIPTION:Steinau a. d. Strasse\, Katharinenkirche
CATEGORIES:Deutsch Event 2027
END:VEVENT
BEGIN:VTIMEZONE
TZID:Europe/Berlin
X-LIC-LOCATION:Europe/Berlin
BEGIN:STANDARD
DTSTART:20261025T020000
TZOFFSETFROM:+0200
TZOFFSETTO:+0100
TZNAME:CET
END:STANDARD
END:VTIMEZONE
END:VCALENDAR