BEGIN:VCALENDAR
VERSION:2.0
PRODID:-//wp-events-plugin.com//7.2.3.1//EN
TZID:Europe/Berlin
X-WR-TIMEZONE:Europe/Berlin
BEGIN:VEVENT
UID:255@frankfurtersinfoniker.de
DTSTART;TZID=Europe/Berlin:20270117T190000
DTEND;TZID=Europe/Berlin:20270117T190000
DTSTAMP:20260321T164220Z
URL:https://frankfurtersinfoniker.de/veranstaltungen/neujahrskonzert-54/
SUMMARY:Neujahrskonzert
DESCRIPTION:Eisenberg\, Kath. Kirche St. Matthäus
CATEGORIES:Deutsch Event 2027
END:VEVENT
BEGIN:VTIMEZONE
TZID:Europe/Berlin
X-LIC-LOCATION:Europe/Berlin
BEGIN:STANDARD
DTSTART:20261025T020000
TZOFFSETFROM:+0200
TZOFFSETTO:+0100
TZNAME:CET
END:STANDARD
END:VTIMEZONE
END:VCALENDAR